BEGIN:VCALENDAR
VERSION:2.0
PRODID:-//Glenlola Collegiate - ECPv5.16.4//NONSGML v1.0//EN
CALSCALE:GREGORIAN
METHOD:PUBLISH
X-WR-CALNAME:Glenlola Collegiate
X-ORIGINAL-URL:https://glenlolacollegiate.net
X-WR-CALDESC:Events for Glenlola Collegiate
BEGIN:VTIMEZONE
TZID:UTC
BEGIN:STANDARD
TZOFFSETFROM:+0000
TZOFFSETTO:+0000
TZNAME:UTC
DTSTART:20170101T000000
END:STANDARD
END:VTIMEZONE
BEGIN:VEVENT
DTSTART;VALUE=DATE:20170909
DTEND;VALUE=DATE:20170911
DTSTAMP:20260424T012557
CREATED:20170821T101211Z
LAST-MODIFIED:20170821T101211Z
UID:11312-1504915200-1505087999@glenlolacollegiate.net
SUMMARY:Duke of Edinburgh Bronze Award Expedition
DESCRIPTION:Twenty-eight Year 11 pupils involved.
URL:https://glenlolacollegiate.net/event/duke-of-edinburgh-bronze-award-expedition/
ATTACH;FMTTYPE=image/png:https://glenlolacollegiate.net/wp-content/uploads/2017/07/Glenlola-Square-Crest-Trans.png
END:VEVENT
END:VCALENDAR