BEGIN:VCALENDAR
VERSION:2.0
PRODID:-//Glenlola Collegiate - ECPv5.16.4//NONSGML v1.0//EN
CALSCALE:GREGORIAN
METHOD:PUBLISH
X-WR-CALNAME:Glenlola Collegiate
X-ORIGINAL-URL:https://glenlolacollegiate.net
X-WR-CALDESC:Events for Glenlola Collegiate
BEGIN:VTIMEZONE
TZID:Europe/London
BEGIN:DAYLIGHT
TZOFFSETFROM:+0000
TZOFFSETTO:+0100
TZNAME:BST
DTSTART:20230326T010000
END:DAYLIGHT
BEGIN:STANDARD
TZOFFSETFROM:+0100
TZOFFSETTO:+0000
TZNAME:GMT
DTSTART:20231029T010000
END:STANDARD
END:VTIMEZONE
BEGIN:VEVENT
DTSTART;TZID=Europe/London:20230526T084500
DTEND;TZID=Europe/London:20230526T153000
DTSTAMP:20260423T164509
CREATED:20230323T085841Z
LAST-MODIFIED:20230323T085841Z
UID:23449-1685090700-1685115000@glenlolacollegiate.net
SUMMARY:Catch-Up Day for Summer Examinations for Years 8-11
DESCRIPTION:Catch-up day for missed internal examinations.
URL:https://glenlolacollegiate.net/event/catch-up-day-for-summer-examinations-for-years-8-11/
END:VEVENT
END:VCALENDAR