BEGIN:VCALENDAR
VERSION:2.0
PRODID:-//Glenlola Collegiate - ECPv5.16.4//NONSGML v1.0//EN
CALSCALE:GREGORIAN
METHOD:PUBLISH
X-WR-CALNAME:Glenlola Collegiate
X-ORIGINAL-URL:https://glenlolacollegiate.net
X-WR-CALDESC:Events for Glenlola Collegiate
BEGIN:VTIMEZONE
TZID:UTC
BEGIN:STANDARD
TZOFFSETFROM:+0000
TZOFFSETTO:+0000
TZNAME:UTC
DTSTART:20200101T000000
END:STANDARD
END:VTIMEZONE
BEGIN:VEVENT
DTSTART;TZID=UTC:20200214T120000
DTEND;TZID=UTC:20200214T190000
DTSTAMP:20260424T013909
CREATED:20200129T123223Z
LAST-MODIFIED:20200129T123223Z
UID:18242-1581681600-1581706800@glenlolacollegiate.net
SUMMARY:BBC School Choir of the Year
DESCRIPTION:Senior Choir participating.  Pupils from Years 11-14 involved.
URL:https://glenlolacollegiate.net/event/bbc-school-choir-of-the-year/
END:VEVENT
END:VCALENDAR