BEGIN:VCALENDAR
VERSION:2.0
PRODID:-//Glenlola Collegiate - ECPv5.16.4//NONSGML v1.0//EN
CALSCALE:GREGORIAN
METHOD:PUBLISH
X-WR-CALNAME:Glenlola Collegiate
X-ORIGINAL-URL:https://glenlolacollegiate.net
X-WR-CALDESC:Events for Glenlola Collegiate
BEGIN:VTIMEZONE
TZID:Europe/London
BEGIN:DAYLIGHT
TZOFFSETFROM:+0000
TZOFFSETTO:+0100
TZNAME:BST
DTSTART:20250330T010000
END:DAYLIGHT
BEGIN:STANDARD
TZOFFSETFROM:+0100
TZOFFSETTO:+0000
TZNAME:GMT
DTSTART:20251026T010000
END:STANDARD
END:VTIMEZONE
BEGIN:VEVENT
DTSTART;TZID=Europe/London:20251129T090000
DTEND;TZID=Europe/London:20251129T170000
DTSTAMP:20260423T174841
CREATED:20251124T095349Z
LAST-MODIFIED:20251124T095349Z
UID:28131-1764406800-1764435600@glenlolacollegiate.net
SUMMARY:Bar Mock Trial Competition
DESCRIPTION:All-day event.  Selected Year 13  & 14 pupils attending.
URL:https://glenlolacollegiate.net/event/bar-mock-trial-competition-2/
END:VEVENT
END:VCALENDAR