BEGIN:VCALENDAR
VERSION:2.0
PRODID:-//Glenlola Collegiate - ECPv5.16.4//NONSGML v1.0//EN
CALSCALE:GREGORIAN
METHOD:PUBLISH
X-WR-CALNAME:Glenlola Collegiate
X-ORIGINAL-URL:https://glenlolacollegiate.net
X-WR-CALDESC:Events for Glenlola Collegiate
BEGIN:VTIMEZONE
TZID:UTC
BEGIN:STANDARD
TZOFFSETFROM:+0000
TZOFFSETTO:+0000
TZNAME:UTC
DTSTART:20180101T000000
END:STANDARD
END:VTIMEZONE
BEGIN:VEVENT
DTSTART;TZID=UTC:20181221T090000
DTEND;TZID=UTC:20181221T123000
DTSTAMP:20260420T055606
CREATED:20181016T072827Z
LAST-MODIFIED:20181016T072827Z
UID:14496-1545382800-1545395400@glenlolacollegiate.net
SUMMARY:Autumn Term Ends
DESCRIPTION:
URL:https://glenlolacollegiate.net/event/autumn-term-ends-2/
END:VEVENT
END:VCALENDAR