BEGIN:VCALENDAR
VERSION:2.0
PRODID:-//Glenlola Collegiate - ECPv5.16.4//NONSGML v1.0//EN
CALSCALE:GREGORIAN
METHOD:PUBLISH
X-WR-CALNAME:Glenlola Collegiate
X-ORIGINAL-URL:https://glenlolacollegiate.net
X-WR-CALDESC:Events for Glenlola Collegiate
BEGIN:VTIMEZONE
TZID:Europe/London
BEGIN:DAYLIGHT
TZOFFSETFROM:+0000
TZOFFSETTO:+0100
TZNAME:BST
DTSTART:20250330T010000
END:DAYLIGHT
BEGIN:STANDARD
TZOFFSETFROM:+0100
TZOFFSETTO:+0000
TZNAME:GMT
DTSTART:20251026T010000
END:STANDARD
END:VTIMEZONE
BEGIN:VEVENT
DTSTART;TZID=Europe/London:20250407T090000
DTEND;TZID=Europe/London:20250407T151500
DTSTAMP:20260424T055551
CREATED:20250204T122448Z
LAST-MODIFIED:20250204T122448Z
UID:26861-1744016400-1744038900@glenlolacollegiate.net
SUMMARY:AS/A2 PE Moderation
DESCRIPTION:Practical examination.
URL:https://glenlolacollegiate.net/event/as-a2-pe-moderation/
END:VEVENT
END:VCALENDAR