BEGIN:VCALENDAR
VERSION:2.0
PRODID:-//Glenlola Collegiate - ECPv5.16.4//NONSGML v1.0//EN
CALSCALE:GREGORIAN
METHOD:PUBLISH
X-WR-CALNAME:Glenlola Collegiate
X-ORIGINAL-URL:https://glenlolacollegiate.net
X-WR-CALDESC:Events for Glenlola Collegiate
BEGIN:VTIMEZONE
TZID:UTC
BEGIN:STANDARD
TZOFFSETFROM:+0000
TZOFFSETTO:+0000
TZNAME:UTC
DTSTART:20180101T000000
END:STANDARD
END:VTIMEZONE
BEGIN:VEVENT
DTSTART;TZID=UTC:20181201T100000
DTEND;TZID=UTC:20181201T110000
DTSTAMP:20260425T021255
CREATED:20181003T103218Z
LAST-MODIFIED:20181003T103218Z
UID:14179-1543658400-1543662000@glenlolacollegiate.net
SUMMARY:AQE Test (3)
DESCRIPTION:
URL:https://glenlolacollegiate.net/event/aqe-test-3-2/
END:VEVENT
END:VCALENDAR